﻿BEGIN:VCALENDAR
VERSION:2.0
CALSCALE:GREGORIAN
PRODID:-//YourCompany//Event//EN
BEGIN:VTIMEZONE
TZID:Europe/Rome
BEGIN:DAYLIGHT
TZOFFSETFROM:+0100
TZOFFSETTO:+0200
TZNAME:CEST
DTSTART:19700329T020000
RRULE:FREQ=YEARLY;BYMONTH=3;BYDAY=-1SU
END:DAYLIGHT
BEGIN:STANDARD
TZOFFSETFROM:+0200
TZOFFSETTO:+0100
TZNAME:CET
DTSTART:19701025T030000
RRULE:FREQ=YEARLY;BYMONTH=10;BYDAY=-1SU
END:STANDARD
END:VTIMEZONE
BEGIN:VEVENT
UID:preggio-20260821@preggiofestival.com
DTSTAMP:20260305T120000Z
SUMMARY:Storie
LOCATION:Preggio, Umbria, Italy
DESCRIPTION:Festival del racconto in parole e musica
DTSTART;TZID=Europe/Rome:20260821T183000
DTEND;TZID=Europe/Rome:20260822T204500
END:VEVENT
END:VCALENDAR